BEGIN:VCALENDAR
VERSION:2.0
PRODID:-//wp-events-plugin.com//6.6.4.4//EN
BEGIN:VEVENT
UID:19@bsclubmus.com
DTSTART;TZID=Asia/Kathmandu:20260409T000000
DTEND;TZID=Asia/Kathmandu:20260424T044500
DTSTAMP:20250918T070518Z
URL:https://bsclubmus.com/zh/events/emily-chen/
SUMMARY:Emily Chen
DESCRIPTION:emily@example.com
END:VEVENT
BEGIN:VTIMEZONE
TZID:Asia/Kathmandu
X-LIC-LOCATION:Asia/Kathmandu
BEGIN:STANDARD
DTSTART:20250409T000000
TZOFFSETFROM:+0545
TZOFFSETTO:+0545
TZNAME:+0545
END:STANDARD
END:VTIMEZONE
END:VCALENDAR